BEGIN:VCALENDAR
VERSION:2.0
PRODID:-//Saajhi Duniya - ECPv6.15.11//NONSGML v1.0//EN
CALSCALE:GREGORIAN
METHOD:PUBLISH
X-ORIGINAL-URL:https://saajhiduniya.org
X-WR-CALDESC:Events for Saajhi Duniya
REFRESH-INTERVAL;VALUE=DURATION:PT1H
X-Robots-Tag:noindex
X-PUBLISHED-TTL:PT1H
BEGIN:VTIMEZONE
TZID:UTC
BEGIN:STANDARD
TZOFFSETFROM:+0000
TZOFFSETTO:+0000
TZNAME:UTC
DTSTART:20180101T000000
END:STANDARD
END:VTIMEZONE
BEGIN:VEVENT
DTSTART;TZID=UTC:20191208T233000
DTEND;TZID=UTC:20191208T233000
DTSTAMP:20260422T160835
CREATED:20210930T131024Z
LAST-MODIFIED:20211022T085529Z
UID:4083-1575847800-1575847800@saajhiduniya.org
SUMMARY:A Discussion on fee hike in JNU- “JNU Ka Sangharsh.....Avam Ki Shiksha Ka Sangharsh”
DESCRIPTION:Saajhi Duniya invited JNU’s Professor Nivedita Menon for a talk on 8th December 2019. The topic of the talk was “JNU ka Sangharsh \, Awam ki Shiksha ka Sangharsh”. The talk was organized in support of the demonstration by the students against the fee hike in JNU.  Nivedita Menon is an Indian feminist writer and a Professor of political thought at JNU\, Delhi. She is known for strong positions on several political issues\, including nuclear power and the Kashmir conflict.
URL:https://saajhiduniya.org/event/a-discussion-on-fee-hike-in-jnu-jnu-ka-sangharsh-avam-ki-shiksha-ka-sangharsh/
LOCATION:Kaifi Azmi Accademi
ATTACH;FMTTYPE=image/jpeg:https://saajhiduniya.org/wp-content/uploads/2021/09/E6-scaled.jpg
END:VEVENT
BEGIN:VEVENT
DTSTART;TZID=UTC:20191023T160000
DTEND;TZID=UTC:20191023T170000
DTSTAMP:20260422T160835
CREATED:20210930T131940Z
LAST-MODIFIED:20211022T085615Z
UID:4092-1571846400-1571850000@saajhiduniya.org
SUMMARY:A Protest against rape and murder in Sultanpur
DESCRIPTION:Sajhi Duniya along with other women’s organizations\, protested at Gandhi Pratima Hzaratganj\, Lucknow against the rape and murder of a Dalit girl in Sultanpur district of Uttar Pradesh
URL:https://saajhiduniya.org/event/a-protest-against-rape-and-murder-in-sultanpur/
LOCATION:Gandhi Pratima Hazrat Ganj
ATTACH;FMTTYPE=image/jpeg:https://saajhiduniya.org/wp-content/uploads/2021/09/E11-scaled.jpg
END:VEVENT
BEGIN:VEVENT
DTSTART;TZID=UTC:20190724T163000
DTEND;TZID=UTC:20190724T173000
DTSTAMP:20260422T160835
CREATED:20210930T132134Z
LAST-MODIFIED:20211022T085642Z
UID:4100-1563985800-1563989400@saajhiduniya.org
SUMMARY:March against the increased violence on  women dalits\, minorities and tribal
DESCRIPTION:Saajhi Duniya along with other women’s organizations took out a march from Hindi Sansthan to Gandhi Pratima\, (Lucknow) for against increased violence against women\, dalit\, minorities and tribal. Many eminent people of the city also participated in it. After reaching the Gandhi Pratima\, a memorandum was given to the administrative officer.
URL:https://saajhiduniya.org/event/march-against-the-increased-violence-on-women-dalits-minorities-and-tribal/
LOCATION:Hindi Sansthan to Gandhi Pratima
ATTACH;FMTTYPE=image/jpeg:https://saajhiduniya.org/wp-content/uploads/2021/09/E12-scaled.jpg
END:VEVENT
BEGIN:VEVENT
DTSTART;TZID=UTC:20190404T160000
DTEND;TZID=UTC:20190404T180000
DTSTAMP:20260422T160835
CREATED:20190604T025807Z
LAST-MODIFIED:20211022T085711Z
UID:1171-1554393600-1554400800@saajhiduniya.org
SUMMARY:Women's March for Change
DESCRIPTION:Saajhi Duniya along with other women’s organizations took out a march from Rumi Gate for increasing violence against women and equality in society.
URL:https://saajhiduniya.org/event/women-march/
LOCATION:Roomi Gate\, Chowk Lucknow
CATEGORIES:Charity,Water
ATTACH;FMTTYPE=image/jpeg:https://saajhiduniya.org/wp-content/uploads/2017/06/The-amazing-tale-of-starting-a-Ugand.jpg
END:VEVENT
BEGIN:VEVENT
DTSTART;TZID=UTC:20190202T163000
DTEND;TZID=UTC:20190202T180000
DTSTAMP:20260422T160835
CREATED:20210930T130448Z
LAST-MODIFIED:20211022T085739Z
UID:4074-1549125000-1549130400@saajhiduniya.org
SUMMARY:A talk by Abhisar Sharma – “Freedom of expression and the role of the media”
DESCRIPTION:Saajhi Duniya invited senior journalist Abhisar Sharma to Lucknow Press Club for a discussion. The topic of the discussion was “Abhivyakti ki azaadi aur media ki bhumika”. All the senior and intellectuals were presented there.  Abhisar Sharma discussed  the roles of media in present scenario.
URL:https://saajhiduniya.org/event/a-talk-by-abhisar-sharma-freedom-of-expression-and-the-role-of-the-media/
LOCATION:UP Press Club\, Lucknow\, Uttar Pradesh\, 226001\, India
ATTACH;FMTTYPE=image/jpeg:https://saajhiduniya.org/wp-content/uploads/2021/09/E4ii-scaled.jpg
END:VEVENT
END:VCALENDAR